BEGIN:VCALENDAR
VERSION:2.0
PRODID:-//Fizioterapevtika - ECPv5.16.1.1//NONSGML v1.0//EN
CALSCALE:GREGORIAN
METHOD:PUBLISH
X-ORIGINAL-URL:https://fizioterapevtika.si
X-WR-CALDESC:Events for Fizioterapevtika
REFRESH-INTERVAL;VALUE=DURATION:PT1H
X-Robots-Tag:noindex
X-PUBLISHED-TTL:PT1H
BEGIN:VTIMEZONE
TZID:Europe/Paris
BEGIN:DAYLIGHT
TZOFFSETFROM:+0100
TZOFFSETTO:+0200
TZNAME:CEST
DTSTART:20220327T010000
END:DAYLIGHT
BEGIN:STANDARD
TZOFFSETFROM:+0200
TZOFFSETTO:+0100
TZNAME:CET
DTSTART:20221030T010000
END:STANDARD
END:VTIMEZONE
BEGIN:VEVENT
DTSTART;TZID=Europe/Paris:20220601T120000
DTEND;TZID=Europe/Paris:20220601T140000
DTSTAMP:20260423T074617
CREATED:20220530T052519Z
LAST-MODIFIED:20220530T095813Z
UID:952-1654084800-1654092000@fizioterapevtika.si
SUMMARY:Zagovori diplomskih del\, 1.6.2022
DESCRIPTION:sreda\, 1.6.2022\n\n\n\n\nura\nŠTUDENT\nNASLOV\nMENTOR\nRECENZENT\nPREDSEDNIK KOMISIJE\n\n\n\n\n12:00\nRenata Zupančič\nFizioterapevtska obravnava bolnika pri poškodbi caudae eqinae\ndoc. dr. Gregor Omejec\nizr. prof. dr. Friderika Kresal\ndoc. dr. Mojca Amon\n\n\n13:00\nAna Marija Kovač\nUčinkovitost fizioterapevtske obravnave pacienta z utesnitvenim sindromom ramenskega sklepa\npred. mag. Simona Pavlič Založnik\nizr. prof. dr. Friderika Kresal\ndoc. dr. Gregor Omejec
URL:https://fizioterapevtika.si/izpopolnjevanja/zagovori-diplomskih-del-1-6-2022/
LOCATION:Predavalnica\, Slovenska cesta 58\, Ljubljana\, 1000\, Slovenija
CATEGORIES:Dogodki,Zagovori diplomskih del
ATTACH;FMTTYPE=image/jpeg:https://fizioterapevtika.si/wp-content/uploads/2021/12/Fizioterapevtika-maj-2019-Photo-DD-Selection-194_web.jpg
ORGANIZER;CN="Visoko%C5%A1olski%20zavod%20Fizioterapevtika":MAILTO:info@fizioterapevtika.si
END:VEVENT
BEGIN:VEVENT
DTSTART;TZID=Europe/Paris:20220620T100000
DTEND;TZID=Europe/Paris:20220620T140000
DTSTAMP:20260423T074617
CREATED:20220616T111811Z
LAST-MODIFIED:20220616T111931Z
UID:962-1655719200-1655733600@fizioterapevtika.si
SUMMARY:Zagovor diplomskih nalog\, ponedeljek 20. junij 2022
DESCRIPTION:ponedeljek\, 20.6.2022\n\n\n\n\nura\nŠTUDENT\nNASLOV\nMENTOR\nRECENZENT\nPREDSEDNIK KOMISIJE\n\n\n\n\n10:00\nLucija Pevec\nRehabilitacija križnih funkcij pri multipli sklerozi\ndoc. dr. Dejan Georgiev\, dr. med\nizr. prof. dr. Friderika Kresal\ndoc. dr. Gregor Omejec\n\n\n11:00\nKatarina Kolenc Klen\nIzkušnje fizioterapevtov pri delu na covid oddelku\nprof. dr. Peter Umek\ndoc. dr. Gregor Omejec\nizr. prof. dr. Friderika Kresal\n\n\n12:00\nDino Erceg\nVpliv mišične jakosti stabilizatorjev trupa na športno zmogljivost\ndoc. dr. Gregor Omejec\nizr. prof. dr. Friderika Kresal\nviš. pred. Irma Veljić\n\n\n13:00\nEva Ivana Kopše/strong>\nUčinkovitost fizioterapevtske obravnave pacientov s patelarno tendinopatijo\ndoc. dr. Gregor Omejec\nizr. prof. dr. Friderika Kresal\nviš. pred. Irma Veljić
URL:https://fizioterapevtika.si/izpopolnjevanja/962/
LOCATION:Predavalnica\, Slovenska cesta 58\, Ljubljana\, 1000\, Slovenija
CATEGORIES:Zagovori diplomskih del
ATTACH;FMTTYPE=image/jpeg:https://fizioterapevtika.si/wp-content/uploads/2021/12/Fizioterapevtika-maj-2019-Photo-DD-Selection-194_web.jpg
ORGANIZER;CN="Visoko%C5%A1olski%20zavod%20Fizioterapevtika":MAILTO:info@fizioterapevtika.si
END:VEVENT
END:VCALENDAR