BEGIN:VCALENDAR
VERSION:2.0
PRODID:-//Fizioterapevtika - ECPv5.16.1.1//NONSGML v1.0//EN
CALSCALE:GREGORIAN
METHOD:PUBLISH
X-WR-CALNAME:Fizioterapevtika
X-ORIGINAL-URL:https://fizioterapevtika.si
X-WR-CALDESC:Events for Fizioterapevtika
REFRESH-INTERVAL;VALUE=DURATION:PT1H
X-Robots-Tag:noindex
X-PUBLISHED-TTL:PT1H
BEGIN:VTIMEZONE
TZID:Europe/Paris
BEGIN:DAYLIGHT
TZOFFSETFROM:+0100
TZOFFSETTO:+0200
TZNAME:CEST
DTSTART:20250330T010000
END:DAYLIGHT
BEGIN:STANDARD
TZOFFSETFROM:+0200
TZOFFSETTO:+0100
TZNAME:CET
DTSTART:20251026T010000
END:STANDARD
END:VTIMEZONE
BEGIN:VEVENT
DTSTART;TZID=Europe/Paris:20250414T090000
DTEND;TZID=Europe/Paris:20250414T110000
DTSTAMP:20260421T093356
CREATED:20250409T122753Z
LAST-MODIFIED:20250414T123114Z
UID:2582-1744621200-1744628400@fizioterapevtika.si
SUMMARY:Zagovori diplomskih del v ponedeljek 14. 4. 2025
DESCRIPTION:ponedeljek\, 14. 4. 2025\n\n\n\n\nura\nŠTUDENT\nNASLOV\nMENTOR\nRECENZENT\nPREDSEDNIK KOMISIJE\n\n\n\n\n9:00\n\nPATRICIJA FABČIČ FLIS\n\n\nUčinkovitost fizioterapevtske obravnave pri pacientih po dislokaciji glenohumeralnega sklepa\n\n\nviš. pred. dr. Špela Bračun\n\n\nizr. prof. dr. Friderika Kresal\n\n\ndoc. dr. Gregor Omejec\n\n\n\n9:30\n\nŽAK HERENDIČ\n\n\nUspešnosti fizioterapevtske obravnave paicenta s kalcinirajočim tendinitisom ramenskega obroča\n\nizr. prof. dr. Friderika Kresal\n\ndoc. dr. Gregor Omejec\n\n\nviš. pred. dr. Špela Bračun\n\n\n\n10:00\n\nANJA LENARČIČ\n\n\nFizioterapevtska obravnava otrok s spinalno mišično atrofijo\n\n\nizr. prof. dr. Friderika Kresal\n\nizr. prof. dr. Friderika Kresal\n\nviš. pred. Špela Bračun\n\n\n\n10:30\n\nTOM NOVAK\n\n\nFizioterapevtski pristop pri poškobi zadnje stegenske mišice\n\n\nizr. prof. dr. Friderika Kresal\n\n\nizr. prof. dr. Friderika Kresal\n\n\nviš. pred. dr. Špela Bračun
URL:https://fizioterapevtika.si/izpopolnjevanja/zagovori-diplomskih-del-v-ponedeljek-14-4-2025/
LOCATION:Predavalnica\, Slovenska cesta 58\, Ljubljana\, 1000\, Slovenija
CATEGORIES:Dogodki,Zagovori diplomskih del
ATTACH;FMTTYPE=image/jpeg:https://fizioterapevtika.si/wp-content/uploads/2023/04/zagovori_001.jpg
ORGANIZER;CN="Visoko%C5%A1olski%20zavod%20Fizioterapevtika":MAILTO:info@fizioterapevtika.si
END:VEVENT
END:VCALENDAR