BEGIN:VCALENDAR
VERSION:2.0
PRODID:-//Fizioterapevtika - ECPv5.16.1.1//NONSGML v1.0//EN
CALSCALE:GREGORIAN
METHOD:PUBLISH
X-ORIGINAL-URL:https://fizioterapevtika.si
X-WR-CALDESC:Events for Fizioterapevtika
REFRESH-INTERVAL;VALUE=DURATION:PT1H
X-Robots-Tag:noindex
X-PUBLISHED-TTL:PT1H
BEGIN:VTIMEZONE
TZID:Europe/Paris
BEGIN:DAYLIGHT
TZOFFSETFROM:+0100
TZOFFSETTO:+0200
TZNAME:CEST
DTSTART:20250330T010000
END:DAYLIGHT
BEGIN:STANDARD
TZOFFSETFROM:+0200
TZOFFSETTO:+0100
TZNAME:CET
DTSTART:20251026T010000
END:STANDARD
END:VTIMEZONE
BEGIN:VEVENT
DTSTART;TZID=Europe/Paris:20250324T090000
DTEND;TZID=Europe/Paris:20250324T103000
DTSTAMP:20260421T111045
CREATED:20250316T192916Z
LAST-MODIFIED:20250320T171052Z
UID:2564-1742806800-1742812200@fizioterapevtika.si
SUMMARY:Zagovori diplomskih del v ponedeljek\, 24. 3. 2025
DESCRIPTION:ponedeljek\, 24. 3. 2025\n\n\n\n\nura\nŠTUDENT\nNASLOV\nMENTOR\nRECENZENT\nPREDSEDNIK KOMISIJE\n\n\n\n\n9:00\nPaul Ošlaj\n\n\nFizioterapevtska obravnava pacienta z multiplo sklerozo\n\ndoc. dr. Gregor Omejec\n\nizr. prof. dr. Friderika Kresal\n\n\nviš. pred. Irma Veljić\n\n\n\n9:30\nŽan Vuk\n\nUgotavljanje učinkov fizioterapevtske obravnave pri zlomu stegnenice\n\nizr. prof. dr. Friderika Kresal\n\ndoc. dr. Gregor Omejec\n\n\nviš. pred. Irma Veljić\n\n\n\n10:00\nLuka Žgajnar\n\nFizioterapevtska obravnava najpogostejših poškodb plesalcev modernih tekmovalnih plesov\n\n\nizr. prof. dr. Friderika Kresal\n\n\ndoc. dr. Gregor Omejec\n\n\nviš. pred. Špela Bračun
URL:https://fizioterapevtika.si/izpopolnjevanja/zagovori-diplomskih-del-v-ponedeljek-24-3-2025/
LOCATION:Predavalnica\, Slovenska cesta 58\, Ljubljana\, 1000\, Slovenija
CATEGORIES:Zagovori diplomskih del
ORGANIZER;CN="Visoko%C5%A1olski%20zavod%20Fizioterapevtika":MAILTO:info@fizioterapevtika.si
END:VEVENT
END:VCALENDAR