BEGIN:VCALENDAR
VERSION:2.0
PRODID:-//Fizioterapevtika - ECPv5.16.1.1//NONSGML v1.0//EN
CALSCALE:GREGORIAN
METHOD:PUBLISH
X-WR-CALNAME:Fizioterapevtika
X-ORIGINAL-URL:https://fizioterapevtika.si
X-WR-CALDESC:Events for Fizioterapevtika
REFRESH-INTERVAL;VALUE=DURATION:PT1H
X-Robots-Tag:noindex
X-PUBLISHED-TTL:PT1H
BEGIN:VTIMEZONE
TZID:Europe/Paris
BEGIN:DAYLIGHT
TZOFFSETFROM:+0100
TZOFFSETTO:+0200
TZNAME:CEST
DTSTART:20250330T010000
END:DAYLIGHT
BEGIN:STANDARD
TZOFFSETFROM:+0200
TZOFFSETTO:+0100
TZNAME:CET
DTSTART:20251026T010000
END:STANDARD
END:VTIMEZONE
BEGIN:VEVENT
DTSTART;TZID=Europe/Paris:20250310T090000
DTEND;TZID=Europe/Paris:20250310T110000
DTSTAMP:20260421T110856
CREATED:20250225T132534Z
LAST-MODIFIED:20250316T193010Z
UID:2533-1741597200-1741604400@fizioterapevtika.si
SUMMARY:Zagovori diplomskih nalog v ponedeljek\, 10. 3. 2025
DESCRIPTION:ponedeljek\, 10. 3. 2025\n\n\n\n\nura\nŠTUDENT\nNASLOV\nMENTOR\nRECENZENT\nPREDSEDNIK KOMISIJE\n\n\n\n\n9:00\nStojan Đekanović\n\n\nUčinkovitost vadbenega programa za krepitev kolčnih mišic pri patelo-femoralnem bolečinskem sindromu\n\ndoc. dr. Gregor Omejec\nizr. prof. dr. Friderika Kresal\nviš. pred. Špela Bračun\n\n\n9:30\nLan Gartner\n\nEpidemiologija in fizioterapevtska obravnava najpogostejših poškodb zgornjega uda pri tenisačih\n\nviš. pred. Špela Bračun\nizr. prof. dr. Friderika Kresal\ndoc. dr. Gregor Omejec\n\n\n10:00\nDavid Lampič\n\nFizioterapevtska obravnava poškodbe fleksorjev kolena pri športnikih\n\n\nviš. pred. mag. Simona Pavlič Založnik\n\n\nizr. prof. dr. Friderika Kresal\n\ndoc. dr. Gregor Omejec
URL:https://fizioterapevtika.si/izpopolnjevanja/zagovori-diplomskih-nalog-v-ponedeljek-10-3-2025/
LOCATION:Predavalnica\, Slovenska cesta 58\, Ljubljana\, 1000\, Slovenija
CATEGORIES:Zagovori diplomskih del
ATTACH;FMTTYPE=image/jpeg:https://fizioterapevtika.si/wp-content/uploads/2023/04/zagovori_001.jpg
ORGANIZER;CN="Visoko%C5%A1olski%20zavod%20Fizioterapevtika":MAILTO:info@fizioterapevtika.si
END:VEVENT
END:VCALENDAR