BEGIN:VCALENDAR
VERSION:2.0
PRODID:-//Fizioterapevtika - ECPv5.16.1.1//NONSGML v1.0//EN
CALSCALE:GREGORIAN
METHOD:PUBLISH
X-WR-CALNAME:Fizioterapevtika
X-ORIGINAL-URL:https://fizioterapevtika.si
X-WR-CALDESC:Events for Fizioterapevtika
REFRESH-INTERVAL;VALUE=DURATION:PT1H
X-Robots-Tag:noindex
X-PUBLISHED-TTL:PT1H
BEGIN:VTIMEZONE
TZID:Europe/Paris
BEGIN:DAYLIGHT
TZOFFSETFROM:+0100
TZOFFSETTO:+0200
TZNAME:CEST
DTSTART:20250330T010000
END:DAYLIGHT
BEGIN:STANDARD
TZOFFSETFROM:+0200
TZOFFSETTO:+0100
TZNAME:CET
DTSTART:20251026T010000
END:STANDARD
END:VTIMEZONE
BEGIN:VEVENT
DTSTART;TZID=Europe/Paris:20250602T090000
DTEND;TZID=Europe/Paris:20250602T120000
DTSTAMP:20260421T045711
CREATED:20250527T134732Z
LAST-MODIFIED:20250527T134732Z
UID:2600-1748854800-1748865600@fizioterapevtika.si
SUMMARY:ZAGOVORI DIPLOMSKIH DEL V PONEDELJEK\, 2. 6. 2025:
DESCRIPTION:ponedeljek\, 2. 6. 2025\n\n\n\n\nura\nŠTUDENT\nNASLOV\nMENTOR\nRECENZENT\nPREDSEDNIK KOMISIJE\n\n\n\n\n9:00\n\nROMANA LISJAK\n\n\nTelesna dejavnost starejših odraslih v domu upokojencev Domžale\n\n\nizr. prof. dr. Friderika Kresal\n\n\ndoc. dr. Gregor Omejec\n\n\nviš. pred. dr. Špela Bračun\n\n\n\n9:35\n\nULA DOLNIČAR\n\n\nFizioterapevtska obravnava pacientov z zmanjšano kostno gostoto\n\n\nizr. prof. dr. Friderika Kresal\n\n\ndoc. dr. Gregor Omejec\n\n\nviš. pred. dr. Špela Bračun\n\n\n\n10:05\n\nTADEJA ČERNEC\n\n\nUčinkovitost pooperativne rehabilitacije po operaciji hernie disci ledvene hrbtenice\n\n\nviš. pred. mag. Simona Pavlič Založnik\n\n\nizr. prof. dr. Friderika Kresal\n\n\nviš. pred. dr. Špela Bračun
URL:https://fizioterapevtika.si/izpopolnjevanja/zagovori-diplomskih-del-v-ponedeljek-2-6-2025/
LOCATION:Predavalnica\, Slovenska cesta 58\, Ljubljana\, 1000\, Slovenija
CATEGORIES:Dogodki,Zagovori diplomskih del
ATTACH;FMTTYPE=image/jpeg:https://fizioterapevtika.si/wp-content/uploads/2023/04/zagovori_001.jpg
ORGANIZER;CN="Visoko%C5%A1olski%20zavod%20Fizioterapevtika":MAILTO:info@fizioterapevtika.si
END:VEVENT
BEGIN:VEVENT
DTSTART;TZID=Europe/Paris:20250602T104000
DTEND;TZID=Europe/Paris:20250602T113000
DTSTAMP:20260421T045711
CREATED:20250527T134334Z
LAST-MODIFIED:20250602T105250Z
UID:2598-1748860800-1748863800@fizioterapevtika.si
SUMMARY:ZAGOVORI MAGISTRSKIH DEL V PONEDELJEK\, 2. 6. 2025
DESCRIPTION:ponedeljek\, 2. 6. 2025\n\n\n\n\nura\nŠTUDENT\nNASLOV\nMENTOR\nRECENZENT\nPREDSEDNIK KOMISIJE\n\n\n\n\n10:40\n\nMANCA MLAČNIK KOŠČAK\n\n\nVpliv transkutane električne nervne stimulacije v aktivni fazi poroda na potrebo po farmakološki analgeziji\n\n\nprof. dr. Špela Smrkolj\n\n\nizr. prof. dr. Friderika Kresal\n\n\ndoc. dr. Gregor Omejec
URL:https://fizioterapevtika.si/izpopolnjevanja/zagovori-magistrskih-del-v-ponedeljek-2-6-2025/
LOCATION:Predavalnica\, Slovenska cesta 58\, Ljubljana\, 1000\, Slovenija
CATEGORIES:Dogodki,Zagovori diplomskih del
ATTACH;FMTTYPE=image/jpeg:https://fizioterapevtika.si/wp-content/uploads/2023/04/zagovori_001.jpg
ORGANIZER;CN="Visoko%C5%A1olski%20zavod%20Fizioterapevtika":MAILTO:info@fizioterapevtika.si
END:VEVENT
BEGIN:VEVENT
DTSTART;TZID=Europe/Paris:20250630T103000
DTEND;TZID=Europe/Paris:20250630T123000
DTSTAMP:20260421T045711
CREATED:20250629T203755Z
LAST-MODIFIED:20250629T204135Z
UID:2626-1751279400-1751286600@fizioterapevtika.si
SUMMARY:Zagovori zaključnih del v ponedeljek\, 30. 6. 2025:
DESCRIPTION:ponedeljek\, 30. 6. 2025\n\n\n\n\nura\nŠTUDENT\nNASLOV\nMENTOR\nRECENZENT\nPREDSEDNIK KOMISIJE\n\n\n\n\n10:30\n\nŽANA ROBIČ\n\n\nVloga fizioterapevtov za izboljšanje počutja zaposlenih v pretežno sedečih delovnih pogojih\n\n\nviš. pred. Irma Veljić\n\n\nizr. prof. dr. Friderika Kresal\n\n\ndoc. dr. Gregor Omejec\n\n\n\n11:00\n\nNEJC JELEN\n\n\nVpliv hidroterapije na motorične funkcije pacienta s Huntingtonovo boleznijo\n\n\nizr. prof. dr. Friderika Kresal\n\n\ndoc. dr. Gregor Omejec\n\n\nprof. dr. Simon Podnar
URL:https://fizioterapevtika.si/izpopolnjevanja/zagovori-zakljucnih-del-v-ponedeljek-30-6-2025/
LOCATION:Predavalnica\, Slovenska cesta 58\, Ljubljana\, 1000\, Slovenija
CATEGORIES:Dogodki,Zagovori diplomskih del
ATTACH;FMTTYPE=image/jpeg:https://fizioterapevtika.si/wp-content/uploads/2023/04/zagovori_001.jpg
ORGANIZER;CN="Visoko%C5%A1olski%20zavod%20Fizioterapevtika":MAILTO:info@fizioterapevtika.si
END:VEVENT
END:VCALENDAR