BEGIN:VCALENDAR
VERSION:2.0
PRODID:-//Fizioterapevtika - ECPv5.16.1.1//NONSGML v1.0//EN
CALSCALE:GREGORIAN
METHOD:PUBLISH
X-WR-CALNAME:Fizioterapevtika
X-ORIGINAL-URL:https://fizioterapevtika.si
X-WR-CALDESC:Events for Fizioterapevtika
REFRESH-INTERVAL;VALUE=DURATION:PT1H
X-Robots-Tag:noindex
X-PUBLISHED-TTL:PT1H
BEGIN:VTIMEZONE
TZID:Europe/Paris
BEGIN:DAYLIGHT
TZOFFSETFROM:+0100
TZOFFSETTO:+0200
TZNAME:CEST
DTSTART:20250330T010000
END:DAYLIGHT
BEGIN:STANDARD
TZOFFSETFROM:+0200
TZOFFSETTO:+0100
TZNAME:CET
DTSTART:20251026T010000
END:STANDARD
END:VTIMEZONE
BEGIN:VEVENT
DTSTART;TZID=Europe/Paris:20250519T110000
DTEND;TZID=Europe/Paris:20250519T113000
DTSTAMP:20260421T062436
CREATED:20250514T204220Z
LAST-MODIFIED:20250514T204221Z
UID:2592-1747652400-1747654200@fizioterapevtika.si
SUMMARY:Zagovor magistrskega dela - ponedeljek\, 19. 5. 2025
DESCRIPTION:ponedeljek\, 19. 5. 2025\n\n\n\n\nura\nŠTUDENT\nNASLOV\nMENTOR\nRECENZENT\nPREDSEDNIK KOMISIJE\n\n\n\n\n11:00\n\nTOMAŽ ŠUBEJ\n\n\nUčinki terapije miofascialnih prožilnih točk pri kronični bolečini v križu\n\n\nizr. prof. dr. Friderika Kresal\n\n\ndoc. dr. Gregor Omejec\n\n\nprof. dr. Simon Podnar
URL:https://fizioterapevtika.si/izpopolnjevanja/zagovor-magistrskega-dela-ponedeljek-19-5-2025/
LOCATION:Predavalnica\, Slovenska cesta 58\, Ljubljana\, 1000\, Slovenija
CATEGORIES:Zagovori diplomskih del
ORGANIZER;CN="Visoko%C5%A1olski%20zavod%20Fizioterapevtika":MAILTO:info@fizioterapevtika.si
END:VEVENT
END:VCALENDAR