BEGIN:VCALENDAR
VERSION:2.0
PRODID:-//Fizioterapevtika - ECPv5.16.1.1//NONSGML v1.0//EN
CALSCALE:GREGORIAN
METHOD:PUBLISH
X-WR-CALNAME:Fizioterapevtika
X-ORIGINAL-URL:https://fizioterapevtika.si
X-WR-CALDESC:Events for Fizioterapevtika
REFRESH-INTERVAL;VALUE=DURATION:PT1H
X-Robots-Tag:noindex
X-PUBLISHED-TTL:PT1H
BEGIN:VTIMEZONE
TZID:Europe/Paris
BEGIN:DAYLIGHT
TZOFFSETFROM:+0100
TZOFFSETTO:+0200
TZNAME:CEST
DTSTART:20250330T010000
END:DAYLIGHT
BEGIN:STANDARD
TZOFFSETFROM:+0200
TZOFFSETTO:+0100
TZNAME:CET
DTSTART:20251026T010000
END:STANDARD
END:VTIMEZONE
BEGIN:VEVENT
DTSTART;TZID=Europe/Paris:20250217T090000
DTEND;TZID=Europe/Paris:20250217T103000
DTSTAMP:20260421T110334
CREATED:20250205T153455Z
LAST-MODIFIED:20250206T201318Z
UID:2467-1739782800-1739788200@fizioterapevtika.si
SUMMARY:Zagovori diplomskih del\, 17. 2. 2025
DESCRIPTION:ponedeljek\, 17. 2. 2025\n\n\n\n\nura\nŠTUDENT\nNASLOV\nMENTOR\nRECENZENT\nPREDSEDNIK KOMISIJE\n\n\n\n\n9:00\nTim Tekavec\n\n\nUčinkovitost fizioterapevtske obravnave pri medialnem epikondilitisu\n\n\nviš. pred. Špela Bračun\n\ndoc. dr. Gregor Omejec\nIzr. prof. dr. Friderika Kresal\n\n\n9:30\nPatricija Brbre Majetič\n\nFizioterapevtska obravnava osteoporoze in preventiva\n\nIzr. prof. dr. Friderika Kresal\n\ndoc. dr. Gregor Omejec\n\n\nviš. pred. Špela Bračun
URL:https://fizioterapevtika.si/izpopolnjevanja/zagovori-diplomskih-del-17-2-2025/
LOCATION:Predavalnica\, Slovenska cesta 58\, Ljubljana\, 1000\, Slovenija
CATEGORIES:Zagovori diplomskih del
ATTACH;FMTTYPE=image/jpeg:https://fizioterapevtika.si/wp-content/uploads/2023/04/zagovori_001.jpg
ORGANIZER;CN="Visoko%C5%A1olski%20zavod%20Fizioterapevtika":MAILTO:info@fizioterapevtika.si
END:VEVENT
END:VCALENDAR