BEGIN:VCALENDAR
VERSION:2.0
PRODID:-//Fizioterapevtika - ECPv5.16.1.1//NONSGML v1.0//EN
CALSCALE:GREGORIAN
METHOD:PUBLISH
X-ORIGINAL-URL:https://fizioterapevtika.si
X-WR-CALDESC:Events for Fizioterapevtika
REFRESH-INTERVAL;VALUE=DURATION:PT1H
X-Robots-Tag:noindex
X-PUBLISHED-TTL:PT1H
BEGIN:VTIMEZONE
TZID:Europe/Paris
BEGIN:DAYLIGHT
TZOFFSETFROM:+0100
TZOFFSETTO:+0200
TZNAME:CEST
DTSTART:20220327T010000
END:DAYLIGHT
BEGIN:STANDARD
TZOFFSETFROM:+0200
TZOFFSETTO:+0100
TZNAME:CET
DTSTART:20221030T010000
END:STANDARD
END:VTIMEZONE
BEGIN:VEVENT
DTSTART;TZID=Europe/Paris:20220408T080000
DTEND;TZID=Europe/Paris:20220412T170000
DTSTAMP:20260420T051128
CREATED:20211217T125044Z
LAST-MODIFIED:20220103T055331Z
UID:80-1649404800-1649782800@fizioterapevtika.si
SUMMARY:TERAPIJA MIOFASCIALNIH VZDRAŽNIH TOČK – Modul 2
DESCRIPTION:Seminar vodi Heidi Tanno\, mednarodna učiteljica \n\n\n\n\n\n\n\n\n\nPetek\, 8. april\n\n\n\n\n\n08:30 – 09:00\nRegistracija udeležencev\n\n\n09:00 – 10:45\nPonovitev metode šestih korakov – Klinično razmišljanje\n\n\n10:45 – 11:00\nČas za kavo\n\n\n11:15 – 13:00\nTemporomandibularni sklep\n\n\n12:45 – 13:45\nČas za kosilo\n\n\n13:45 – 15:15\nPreiskava in obravnava mastikatornih mišic in mišic glave\n\n\n15:15 – 15:30\nČas za čaj\n\n\n15:30 – 17:00\nNadaljevanje\n\n\n\n\n\n\n\n\n\nSobota\, 9. April\n\n\n\n\n\n09:00 – 11:45\nTeorija motorične ploščice in utesnitve\n\n\n10:45 – 11:00\nČas za kavo\n\n\n11:00 – 12:45\nPreiskava in obravnava kolčnih in stegenskih mišic\n\n\n12:45 – 13:45\nČas za kosilo\n\n\n13:45 – 15:15\nNadaljevanje\n\n\n15:15- 15:30\nČas za čaj\n\n\n15:30 – 17:30\nTesti in vaje za mobilizacijo živčevja\n\n\n\n\n\n\n\n\n\nNedelja\, 10. april\n\n\n\n\n\n09:00 – 10:45\nUčinki manualne obravnave MTPT\, 1. del\n\n\n10:45 – 11:00\nČas za kavo\n\n\n11:00 – 12:45\nPreiskava in obravnava mišic kolena in gležnja\n\n\n12:45 – 13:45\nČas za kosilo\n\n\n13:45 – 15:15\nNadaljevanje\n\n\n15:15 – 15:30\nČas za čaj\n\n\n15:30 – 17:00\nTesti in vaje za mobilizacijo živčevja\n\n\n\n\n\n\n\n\n\nPonedeljek\, 11. april\n\n\n\n\n\n09:00 – 10:45\nUčinki manualne obravnave MTPT\, 2. del\n\n\n10:45 – 11:00\nČas za kavo\n\n\n11:00 – 12:45\nPreiskava in obravnava miofascialnih tirgger točk stopala\, roke in mišic prstov\n\n\n12:45 – 13:45\nČas za kosilo\n\n\n13:45 – 15:15\nNadaljevanje\n\n\n15:15 – 15:30\nČas za čaj\n\n\n15:30 – 17:00\nTesti in vaje za mobilizacijo živčevja\n\n\n\n\n\n\n\n\n\nTorek\, 12. april\n\n\n\n\n\n09:00 – 10:45\nKronična mišična bolečina\n\n\n10:45 – 11:00\nČas za kavo\n\n\n11:00 – 12:45\nPreiskava in obravnava misofascialnih trigger točk mišic podlahti in nadlahti\n\n\n12:45 – 13:45\nČas za kosilo\n\n\n13:45 – 15:15\nNadaljevanje\n\n\n15:15 – 15:30\nČas za čaj\n\n\n15:30 – 17:00\nIzpiti\, evalvacija in zaključek seminarja\n\n\n\n\n\n\n\nPLAČILO KOTIZACIJE:\n\n\n\nKotizacija plačana v času do 9. 2. 2022 znaša 597\,00 EUR\, po tem datumu vključno do 9. 3. 2022 pa 697\,00 EUR. V kolikor bi po tem datumu organizator še razpolagal s kakšnim prostim mestom\, znaša kotizacija 797\,00 EUR. V ceno kotizacije je vključen DDV.\nKotizacijo nakažite na TRR: IBAN SI56 0201 3025 9697 919 (NLB d.d.). \n\n\n\nIzpolnjeno prijavnico pošljite po elektronski pošti (tajnistvo@fizioterapevtika.si)ali navadni pošti (Visokošolski zavod Fizioterapevtika\, Slovenska cesta 58\, 1000 Ljubljana). Prijavnica velja kot naročilnica. \nOpomba:\n1. V primeru\, da odpovedujete udeležbo na seminarju že pred 9.2.2022 in ne najdete zamenjave\, zadrži organizator polovico kotizacije\, po tem datumu tri četrtine\, en teden ali manj pred začetkom seminarja pa celotno kotizacijo. V kolikor bi bila za vašo odsotnost kriva višja sila (npr. bolezen) le-to izkažete z zdravniškim potrdilom specialista ali drugim ustreznim dokumentom. V izjemnih primerih kotizacijo vračamo\, zmanjšano za 10% manipulativnihstroškov.\n2. Organizator si v primeru objektivnih razlogov\, brez ugovorov\, pridržuje pravico do spremembe datuma in kraja izvedbe seminarja\, o čemer pravočasno obvesti vse prijavljene. V primeru sprememb\, so udeleženci dolžni upoštevati navodila pod točko1.\, nikakor pa niso upravičeni do uveljavljanjakakršnihkoli bonitet.\n3. V kolikor se\, zaradi spremembe kraja in časa seminarja\, posamezniki iz osebnih razlogov ne bi udeležili seminarja\, so obvezno dolžni za svoj izpad poiskati zamenjavo\, ker vplačanih kotizacij v takšnih primerih ne vračamo! \n\n\n\nPRIJAVA NAROČILNICA
URL:https://fizioterapevtika.si/izpopolnjevanja/terapija-miofascialnih-vzdraznih-tock-modul-2/
LOCATION:Predavalnica\, Slovenska cesta 58\, Ljubljana\, 1000\, Slovenija
CATEGORIES:OMMT,Podipomska,Seminarji
ATTACH;FMTTYPE=image/jpeg:https://fizioterapevtika.si/wp-content/uploads/2021/12/OMMT_splosna_Fizio_01.jpg
ORGANIZER;CN="Visoko%C5%A1olski%20zavod%20Fizioterapevtika":MAILTO:info@fizioterapevtika.si
END:VEVENT
END:VCALENDAR