BEGIN:VCALENDAR
VERSION:2.0
PRODID:-//Fizioterapevtika - ECPv5.16.1.1//NONSGML v1.0//EN
CALSCALE:GREGORIAN
METHOD:PUBLISH
X-WR-CALNAME:Fizioterapevtika
X-ORIGINAL-URL:https://fizioterapevtika.si
X-WR-CALDESC:Events for Fizioterapevtika
REFRESH-INTERVAL;VALUE=DURATION:PT1H
X-Robots-Tag:noindex
X-PUBLISHED-TTL:PT1H
BEGIN:VTIMEZONE
TZID:Europe/Paris
BEGIN:DAYLIGHT
TZOFFSETFROM:+0100
TZOFFSETTO:+0200
TZNAME:CEST
DTSTART:20210328T010000
END:DAYLIGHT
BEGIN:STANDARD
TZOFFSETFROM:+0200
TZOFFSETTO:+0100
TZNAME:CET
DTSTART:20211031T010000
END:STANDARD
END:VTIMEZONE
BEGIN:VEVENT
DTSTART;TZID=Europe/Paris:20211106T080000
DTEND;TZID=Europe/Paris:20211110T170000
DTSTAMP:20260422T172954
CREATED:20210928T170845Z
LAST-MODIFIED:20250209T093711Z
UID:507-1636185600-1636563600@fizioterapevtika.si
SUMMARY:Ortopedska medicina in manualna terapija OMMT – Ledvena hrbtenica\, modul 5
DESCRIPTION:photo: Shuttersstock \n\n\n\n\nIzobraževanje vodi mednarodni učitelj viš. pred.Rene de Bruijn. \n\n\n\n\n\n\n\n\n\nSobota\, 6. november 2021\n\n\n\n\n\n08:00 – 08:30\nRegistracija\n\n\n08:30 – 11:00\nAnatomija ledvene hrbtenice; fasetni sklepi\n\n\n11:00 – 11:15\nČas za kavo\n\n\n11:15 – 13:00\nNadaljevanje\n\n\n13.00 – 14.00\nČas za kosilo\n\n\n14.00 – 15.30\nKombinirani gibi\n\n\n15.30 – 15.45\nČas za čaj\n\n\n15.45 – 17.30\nAnatomija diskusa\n\n\n\n\n\n\n\n\n\nNedelja\, 7. november 2021\n\n\n\n\n\n08.30 – 11.00\nKlinična preiskava ledvene hrbtenice – teorija in klinično razmišljanje\n\n\n11.00 – 11.15\nČas za kavo\n\n\n11.15 – 13.00\nKlinična preiskava: praktični del\n\n\n13.00 – 14.00\nČas za kosilo\n\n\n14.00 – 15.30\nNadaljnje preiskave: Rozet; Federung & Springing; AP drsenje\n\n\n15.30 – 15.45\nČas za čaj\n\n\n15.45 – 17.30\nMobilizacija ledvene hrbtenice: fasetni sklepi; zaklenjeni položaji\n\n\n\n\n\n\n\n\n\nPonedeljek\, 8. november 2021\n\n\n\n\n\n08:30 – 11:00\nKlinični primer: bolnik s problemi fasetnega sklepa: klinična presoja in obravnava\n\n\n11:00 – 11:15\nČas za kavo\n\n\n11:15 – 13:00\nPatologija diskusa in obravnava\n\n\n13:00 – 14:00\nČas za kosilo\n\n\n14:00 – 15:30\nNadaljevanje\n\n\n15:30 – 15:45\nČas za čaj\n\n\n15:45 – 17:30\nNadaljevanje\n\n\n\n\n\n\n\n\n\nTorek\, 9. november 2021\n\n\n\n\n\n08:30 – 11:00\nKlinični primer: diskogena bolečina\n\n\n11:00 – 11:15\nČas za kavo\n\n\n11:15 – 13:00\nKlinični primer: lumboradikularna bolečina\n\n\n13:00 – 14:00\nČas za kosilo\n\n\n14:00 – 15:30\nLedvena nestabilnost: teorija\n\n\n15:30 – 15:45\nČas za čaj\n\n\n15:45 – 17:30\nLedvena nestabilnost: klinični testi: AP drsenje; MTA in multifidus\n\n\n\n\n\n\n\n\n\nSreda\, 10. november 2021\n\n\n\n\n\n08:30 – 11:00\nLedvena nestabilnost: vaje\n\n\n11:00 – 11:15\nČas za kavo\n\n\n11:15 – 13:00\nNadaljevanje\n\n\n13:00 – 14:00\nČas za kosilo\n\n\n14:00 – 15:30\nKlinični primer: ledvena nestabilnost\n\n\n15:30 – 15:45\nČas za čaj\n\n\n15:45 – 16:30\nRazlične patologije: tumorji; Forestier\, Baastrup; notranji sistem\n\n\n16:30\nZaključek seminarja\n\n\n\n\n\n\n\nPLAČILO KOTIZACIJE:\nKotizacija plačana do vključno 15.10.2021 znaša 850\,00 €; po tem datumu\, vključno do 29.10.2021 pa 978\,00 EUR. V kolikor bi po tem datumu organizator še razpolagal s kakšnim prostim mestom\, znaša kotizacija 1.174\,00 EUR. V ceno kotizacije je vključen DDV. Kotizacijo nakažite na TRR: IBAN SI56 0201 3025 9697 919 (NLB d.d.). \nIzpolnjeno prijavnico pošljite po elektronski pošti (tajnistvo@fizioterapevtika.si)ali navadni pošti (Visokošolski zavod Fizioterapevtika\, Slovenska cesta 58\, 1000 Ljubljana). Prijavnica velja kot naročilnica. \nOpomba:\n1. V primeru\, da odpovedujete udeležbo na seminarju že pred 15.10.2021 in ne najdete zamenjave\, zadrži organizator polovico kotizacije\, po tem datumu tri četrtine\, en teden ali manj pred začetkom seminarja pa celotno kotizacijo. V kolikor bi bila za vašo odsotnost kriva višja sila (npr. bolezen) le-to izkažete z zdravniškim potrdilom specialista ali drugim ustreznim dokumentom. V izjemnih primerih kotizacijo vračamo\, zmanjšano za 10% manipulativnihstroškov.\n2. Organizator si v primeru objektivnih razlogov\, brez ugovorov\, pridržuje pravico do spremembe datuma in kraja izvedbe seminarja\, o čemer pravočasno obvesti vse prijavljene. V primeru sprememb\, so udeleženci dolžni upoštevati navodila pod točko1.\, nikakor pa niso upravičeni do uveljavljanjakakršnihkoli bonitet.\n3. V kolikor se\, zaradi spremembe kraja in časa seminarja\, posamezniki iz osebnih razlogov ne bi udeležili seminarja\, so obvezno dolžni za svoj izpad poiskati zamenjavo\, ker vplačanih kotizacij v takšnih primerih ne vračamo! \n\n\n\nPRIJAVA NAROČILNICA\nPrijave so zaključene!
URL:https://fizioterapevtika.si/izpopolnjevanja/ortopedska-medicina-in-manualna-terapija-ommt-ledvena-hrbtenica-modul-5/
LOCATION:Predavalnica\, Slovenska cesta 58\, Ljubljana\, 1000\, Slovenija
CATEGORIES:Arhiv,OMMT,Podipomska
ATTACH;FMTTYPE=image/jpeg:https://fizioterapevtika.si/wp-content/uploads/2021/12/OMMT5_shutterstock_1710065878.jpg
ORGANIZER;CN="Visoko%C5%A1olski%20zavod%20Fizioterapevtika":MAILTO:info@fizioterapevtika.si
END:VEVENT
END:VCALENDAR