BEGIN:VCALENDAR
VERSION:2.0
PRODID:-//Fizioterapevtika - ECPv5.16.1.1//NONSGML v1.0//EN
CALSCALE:GREGORIAN
METHOD:PUBLISH
X-ORIGINAL-URL:https://fizioterapevtika.si
X-WR-CALDESC:Events for Fizioterapevtika
REFRESH-INTERVAL;VALUE=DURATION:PT1H
X-Robots-Tag:noindex
X-PUBLISHED-TTL:PT1H
BEGIN:VTIMEZONE
TZID:Europe/Paris
BEGIN:DAYLIGHT
TZOFFSETFROM:+0100
TZOFFSETTO:+0200
TZNAME:CEST
DTSTART:20210328T010000
END:DAYLIGHT
BEGIN:STANDARD
TZOFFSETFROM:+0200
TZOFFSETTO:+0100
TZNAME:CET
DTSTART:20211031T010000
END:STANDARD
END:VTIMEZONE
BEGIN:VEVENT
DTSTART;TZID=Europe/Paris:20210520T080000
DTEND;TZID=Europe/Paris:20210608T170000
DTSTAMP:20260423T090527
CREATED:20210505T174708Z
LAST-MODIFIED:20250209T093638Z
UID:531-1621497600-1623171600@fizioterapevtika.si
SUMMARY:ORTOPEDSKA MEDICINA IN MANUALNA TERAPIJA OMMT – Cervikalna hrbtenica – Modul 7
DESCRIPTION:photo: Shuttersstock \n\n\n\n\n\nIzobraževanje vodi mednarodni učitelj viš. pred.Rene de Bruijn.\n\n\n\nURNIK\n\n\n\n\n\nČetrtek\, 20. maj 2021\n\n\n\n\n\n12.00 – 12.15\nRegistracija\n\n\n12.15 – 14.30\nAnatomija kraniocervikalnega segmenta\n\n\n14.30 – 15.15\nČas za kavo\n\n\n15.15 – 16.45\nDelovanje ligamentov in kraniocervikalnega predela\n\n\n16.45 – 17.00\nČas za kosilo\n\n\n17.00 – 18.30\nKlinični testi kraniocervikalnega predela\n\n\n18.30 – 19.00\nČas za čaj\n\n\n19.00 – 20.30\nManualna terapija kraniocervikalnega segmenta\n\n\n\n\n\n\n\n\n\nPetek\, 21. maj 2021\n\n\n\n\n\n12.00 – 14.30\nCervikogeni glavobol: diagnoza in obravnava\, Vrtoglavica: različne oblike in klinični testi\n\n\n14.00 – 15.15\nČas za kavo\n\n\n15.15 – 16.45\nNadaljevanje\n\n\n16.45 – 17.00\nČas za kosilo\n\n\n17.00 – 18.30\nAnatomija cervikalne hrbtenice: teorija\n\n\n18.30 – 19.00\nČas za čaj\n\n\n20.00 – 20.30\nOsnovne preiskave cervikalne hrbtenice: teorija in praktični del\n\n\n\n\n\n\n\n\n\nSobota\, 22. maj 2021\n\n\n\n\n\n08.45 – 11.00\nSpecifične preiskave cervikalne hrbtenice: fasetni sklepi\n\n\n11.00 – 11.30\nČas za kavo\n\n\n11.30 – 13.00\nManualna terapija fasetnih sklepov\n\n\n13.00 – 14.00\nČas za kosilo\n\n\n14.00 – 15.30\nKlinični primer: bolečina fasetnih sklepov\n\n\n15.30 – 16.00\nČas za čaj\n\n\n16.00 – 17.15\nAnatomija cervikalnega diskusa\n\n\n\n\n\n\n\n\n\nNedelja\, 23. maj 2021\n\n\n\n\n\n08.45 – 11.00\nAkutni tortikolis: obravnava\n\n\n11.00 – 11.30\nČas za kavo\n\n\n11.30 – 13.00\nSindrom cervikalne drže: Jenkner tehnike\n\n\n13.00 – 14.00\nČas za kosilo\n\n\n14.00 – 15.30\nCervikobrahialni sindrom: teorija in diferencialna diagnoza\n\n\n15.30 – 16.00\nČas za čaj\n\n\n16.00 – 17.15\nWAD: pridružene motnje nihajne poškodbe: teorija\n\n\n\n\n\n\n\n\n\nPonedeljek\, 24. maj 2021\n\n\n\n\n\n08.45 – 11.00\nWAD: praktično delo\n\n\n11.00 – 11.30\nČas za kavo\n\n\n11.30 – 13.00\nCervikalna nestabilnost\n\n\n13.00 – 14.00\nČas za kosilo\n\n\n14.00 – 15.30\nCervikalna nestabilnost: vaje\n\n\n15.30 – 16.00\nČas za čaj\n\n\n16.00 – 17.15\nSpecifična cervikalna patologija: sindrom Wallenberg: Cock Robin\n\n\n17.15 – 17.30\nZaključek
URL:https://fizioterapevtika.si/izpopolnjevanja/ortopedska-medicina-in-manualna-terapija-ommt-cervikalna-hrbtenica-modul-7-2/
LOCATION:Predavalnica\, Slovenska cesta 58\, Ljubljana\, 1000\, Slovenija
CATEGORIES:Arhiv,OMMT,Podipomska
ATTACH;FMTTYPE=image/jpeg:https://fizioterapevtika.si/wp-content/uploads/2021/12/OMMT_cervikalna_modul_7_image2.jpg
ORGANIZER;CN="Visoko%C5%A1olski%20zavod%20Fizioterapevtika":MAILTO:info@fizioterapevtika.si
END:VEVENT
END:VCALENDAR