BEGIN:VCALENDAR
VERSION:2.0
PRODID:-//Fizioterapevtika - ECPv5.16.1.1//NONSGML v1.0//EN
CALSCALE:GREGORIAN
METHOD:PUBLISH
X-ORIGINAL-URL:https://fizioterapevtika.si
X-WR-CALDESC:Events for Fizioterapevtika
REFRESH-INTERVAL;VALUE=DURATION:PT1H
X-Robots-Tag:noindex
X-PUBLISHED-TTL:PT1H
BEGIN:VTIMEZONE
TZID:Europe/Paris
BEGIN:DAYLIGHT
TZOFFSETFROM:+0100
TZOFFSETTO:+0200
TZNAME:CEST
DTSTART:20260329T010000
END:DAYLIGHT
BEGIN:STANDARD
TZOFFSETFROM:+0200
TZOFFSETTO:+0100
TZNAME:CET
DTSTART:20261025T010000
END:STANDARD
END:VTIMEZONE
BEGIN:VEVENT
DTSTART;TZID=Europe/Paris:20260420T080000
DTEND;TZID=Europe/Paris:20260420T170000
DTSTAMP:20260420T131521
CREATED:20260420T055207Z
LAST-MODIFIED:20260420T055207Z
UID:2785-1776672000-1776704400@fizioterapevtika.si
SUMMARY:ZAGOVORI ZAKLJUČNIH DEL V PONEDELJEK\, 20. 4. 2026:
DESCRIPTION:ponedeljek\, 20. 4. 2026\n\n\n\n\nura\nŠTUDENT\nNASLOV\nMENTOR\nRECENZENT\nPREDSEDNIK KOMISIJE\n\n\n\n\n9:00\n\nNIKA ŽLAJPAH\n\n\nPsihološki vidiki fizioterapevtske obravnave pri depresivnih pacientih\n\n\nProf. dr. Peter Umek\n\n\nizr. prof. dr. Friderika Kresal\n\n\ndoc. dr. Gregor Omejec\n\n\n\n9:45\n\nMAJA MILIĆ\n\n\nPomen promocije zdravja za uspešnost na delovnem mestu\n\n\nViš.pred.Veljič Irma\n\n\nizr. prof. dr. Friderika Kresal\n\ndoc. dr. Gregor Omejec
URL:https://fizioterapevtika.si/izpopolnjevanja/zagovori-zakljucnih-del-v-ponedeljek-20-4-2026/
LOCATION:Predavalnica\, Slovenska cesta 58\, Ljubljana\, 1000\, Slovenija
CATEGORIES:Dogodki,Zagovori diplomskih del
ATTACH;FMTTYPE=image/jpeg:https://fizioterapevtika.si/wp-content/uploads/2023/04/zagovori_001.jpg
ORGANIZER;CN="Visoko%C5%A1olski%20zavod%20Fizioterapevtika":MAILTO:info@fizioterapevtika.si
END:VEVENT
END:VCALENDAR