BEGIN:VCALENDAR
VERSION:2.0
PRODID:-//Fizioterapevtika - ECPv5.16.1.1//NONSGML v1.0//EN
CALSCALE:GREGORIAN
METHOD:PUBLISH
X-ORIGINAL-URL:https://fizioterapevtika.si
X-WR-CALDESC:Events for Fizioterapevtika
REFRESH-INTERVAL;VALUE=DURATION:PT1H
X-Robots-Tag:noindex
X-PUBLISHED-TTL:PT1H
BEGIN:VTIMEZONE
TZID:UTC
BEGIN:STANDARD
TZOFFSETFROM:+0000
TZOFFSETTO:+0000
TZNAME:UTC
DTSTART:20220101T000000
END:STANDARD
END:VTIMEZONE
BEGIN:VEVENT
DTSTART;TZID=UTC:20220913T130000
DTEND;TZID=UTC:20220913T150000
DTSTAMP:20260420T103725
CREATED:20220912T155357Z
LAST-MODIFIED:20220912T155449Z
UID:1000-1663074000-1663081200@fizioterapevtika.si
SUMMARY:Zagovori diplomskih del - 13.9.2022
DESCRIPTION:torek\, 13.9.2022\n \n\n\n\nura\nŠTUDENT\nNASLOV\nMENTOR\nRECENZENT\nPREDSEDNIK KOMISIJE\n\n\n\n\n13:00\nRok Stare\nVpliv Covida-19 na delo fizioterapevtov v Sloveniji\ndoc. dr. Mojca Amon\nizr. prof. dr. Friderika Kresal\ndoc. dr. Gregor Omejec\n\n\n14:00\nŽan Japelj\nPreprečevanje negativnih posledic sedečega načina življenja s fizioterapevtskimi postopki\ndoc. dr. Mojca Amon\ndoc. dr. Gregor Omejec\nizr. prof. dr. Friderika Kresal
URL:https://fizioterapevtika.si/izpopolnjevanja/zagovori-diplomskih-del-13-9-2022/
LOCATION:Predavalnica\, Slovenska cesta 58\, Ljubljana\, 1000\, Slovenija
CATEGORIES:Dogodki,Zagovori diplomskih del
ORGANIZER;CN="Visoko%C5%A1olski%20zavod%20Fizioterapevtika":MAILTO:info@fizioterapevtika.si
END:VEVENT
END:VCALENDAR