BEGIN:VCALENDAR
VERSION:2.0
PRODID:-//Fizioterapevtika - ECPv5.16.1.1//NONSGML v1.0//EN
CALSCALE:GREGORIAN
METHOD:PUBLISH
X-WR-CALNAME:Fizioterapevtika
X-ORIGINAL-URL:https://fizioterapevtika.si
X-WR-CALDESC:Events for Fizioterapevtika
REFRESH-INTERVAL;VALUE=DURATION:PT1H
X-Robots-Tag:noindex
X-PUBLISHED-TTL:PT1H
BEGIN:VTIMEZONE
TZID:Europe/Paris
BEGIN:DAYLIGHT
TZOFFSETFROM:+0100
TZOFFSETTO:+0200
TZNAME:CEST
DTSTART:20220327T010000
END:DAYLIGHT
BEGIN:STANDARD
TZOFFSETFROM:+0200
TZOFFSETTO:+0100
TZNAME:CET
DTSTART:20221030T010000
END:STANDARD
END:VTIMEZONE
BEGIN:VEVENT
DTSTART;TZID=Europe/Paris:20220518T100000
DTEND;TZID=Europe/Paris:20220518T140000
DTSTAMP:20260424T010948
CREATED:20220513T113005Z
LAST-MODIFIED:20220530T052010Z
UID:922-1652868000-1652882400@fizioterapevtika.si
SUMMARY:Zagovori diplomskih del\, v živo\, dne 18. 5. 2022:
DESCRIPTION:sreda\, 18.5.2022\n\n\n\n\nura\nŠTUDENT\nNASLOV\nMENTOR\nRECENZENT\nPREDSEDNIK KOMISIJE\n\n\n\n\n10:00\nTilen Vehovec\nUČINKI VADBE PRI NESPECIFIČNI BOLEČINI V SPODNJEM DELU HRBTA PRI ODRASLIH OSEBAH\npred. Špela Bračun\nizr. prof. dr. Friderika Kresal\ndoc. dr. Gregor Omejec\n\n\n11:00\nAna Marija Kovač\nFizioterapevtska obravnava kot podporno zdravljenje pri anksioznih motnjah\nprof. dr. Peter Umek\nizr. prof. dr. Friderika Kresal\ndoc. dr. Gregor Omejec\n\n\n12:00\nŽiva Kozole\nDolgotrajna oskrba in fizioterapevtska obravnava starejših odraslih\nprof. dr. Mojca Amon\nizr. prof. dr. Friderika Kresal\ndoc. dr. Gregor Omejec\n\n\n13:00\nMarija Kališnik\nPRAVICA DO SAMOODLOČBE PACIENTA\nprof. dr. Viktorija Žnidaršič Skubic\nizr. prof. dr. Friderika Kresal\nviš. pred. Irma Veljić
URL:https://fizioterapevtika.si/izpopolnjevanja/922/
LOCATION:Predavalnica\, Slovenska cesta 58\, Ljubljana\, 1000\, Slovenija
CATEGORIES:Dogodki,Zagovori diplomskih del
ORGANIZER;CN="Visoko%C5%A1olski%20zavod%20Fizioterapevtika":MAILTO:info@fizioterapevtika.si
END:VEVENT
END:VCALENDAR