BEGIN:VCALENDAR
VERSION:2.0
PRODID:-//Fizioterapevtika - ECPv5.16.1.1//NONSGML v1.0//EN
CALSCALE:GREGORIAN
METHOD:PUBLISH
X-ORIGINAL-URL:https://fizioterapevtika.si
X-WR-CALDESC:Events for Fizioterapevtika
REFRESH-INTERVAL;VALUE=DURATION:PT1H
X-Robots-Tag:noindex
X-PUBLISHED-TTL:PT1H
BEGIN:VTIMEZONE
TZID:Europe/Paris
BEGIN:DAYLIGHT
TZOFFSETFROM:+0100
TZOFFSETTO:+0200
TZNAME:CEST
DTSTART:20220327T010000
END:DAYLIGHT
BEGIN:STANDARD
TZOFFSETFROM:+0200
TZOFFSETTO:+0100
TZNAME:CET
DTSTART:20221030T010000
END:STANDARD
END:VTIMEZONE
BEGIN:VEVENT
DTSTART;TZID=Europe/Paris:20220407T110000
DTEND;TZID=Europe/Paris:20220412T120000
DTSTAMP:20260424T081023
CREATED:20220407T085552Z
LAST-MODIFIED:20220411T085611Z
UID:889-1649329200-1649764800@fizioterapevtika.si
SUMMARY:Zagovori diplomskih nalog\, 7.4. - 12.4.2022
DESCRIPTION:četrtek\, 7.april 2022\n\n\n\n\nura\nŠTUDENT\nNASLOV\nMENTOR\nRECENZENT\nPREDSEDNIK KOMISIJE\n\n\n\n\n11:00\nŠpela Rozman\nZdravljenje spondilolize pri tenisačih mladostnikih\npred. Špela Bračun\ndoc. dr. Gregor Omejec\nizr. prof. Friderika Kresal\n\n\n\n\nponedeljek\, 11.april 2022\n\n\n\n\nura\nŠTUDENT\nNASLOV\nMENTOR\nRECENZENT\nPREDSEDNIK KOMISIJE\n\n\n\n\n10:00\nLarisa Fišer\nPovezanost fizioterapevtske obravnave z uživanjem prehranskih dodatkov pri ženskah\ndoc. dr. Mojca Amon\nizr. prof. Friderika Kresal\ndoc. dr. Gregor Omejec\n\n\n11:00\nLenart Hribovšek\nPojavnost simptomatskih in asimptomatskih natrganin rotatorne manšete v splošni populaciji\ndoc. dr. Gregor Omejec\nizr. prof. dr. Friderika Kresal\ndoc. dr. Gregor Omejec\n\n\n12:00\nTamara Došenović\nPacientova pravica do zavrnitve zdravljenja\nprof. dr. Viktorija Žnidaršič Skubic\nizr. prof. dr. Friderika Kresal\npred. Špela Bračun\n\n\n\n\ntorek\, 12.april 2022\n\n\n\n\nura\nŠTUDENT\nNASLOV\nMENTOR\nRECENZENT\nPREDSEDNIK KOMISIJE\n\n\n\n\n11:00\nUrška Gorup\nVpliv inspiratornega mišičnega treninga s POWERbreathe pripomočkom na pljučno funkcijo\npred. mag. Simona Videnšek\nizr. prof. Friderika Kresal\ndoc. dr. Gregor Omejec
URL:https://fizioterapevtika.si/izpopolnjevanja/zagovori-diplomskih-nalog-7-4-12-4-2022/
LOCATION:Predavalnica\, Slovenska cesta 58\, Ljubljana\, 1000\, Slovenija
CATEGORIES:Dogodki,Zagovori diplomskih del
ATTACH;FMTTYPE=image/jpeg:https://fizioterapevtika.si/wp-content/uploads/2021/12/Fizioterapevtika-maj-2019-Photo-DD-Selection-194_web-1.jpg
ORGANIZER;CN="Visoko%C5%A1olski%20zavod%20Fizioterapevtika":MAILTO:info@fizioterapevtika.si
END:VEVENT
END:VCALENDAR